BEGIN:VCALENDAR
VERSION:2.0
PRODID:-//hacksw/handcal//NONSGML v1.0//EN
BEGIN:VEVENT
UID:cea6df8f1457f8cfcb9b927f32f6ab8d
DTSTAMP:20201022T050000
DTSTART;TZID=America/Chicago:20201022T050000
DTEND;TZID=America/Chicago:20201022T180000
SUMMARY:Free Speech Online in a Global Setting: Censorship and the Challenge of Private Control with 
LOCATION:Zoom Webinar
URL;VALUE=URI:https://www.strausscenter.org/events/free-speech-online-international-censorship-challenge/
END:VEVENT
END:VCALENDAR