BEGIN:VCALENDAR
VERSION:2.0
PRODID:-//hacksw/handcal//NONSGML v1.0//EN
BEGIN:VEVENT
UID:5a35a27005c1127a3dcc7ac38366fc71
DTSTAMP:20221025T115000
DTSTART;TZID=America/Chicago:20221025T115000
DTEND;TZID=America/Chicago:20221025T125000
SUMMARY:Cyber Lawyers at the National Security Agency with 
LOCATION:TNH 2.137, Law School
URL;VALUE=URI:https://www.strausscenter.org/events/cyber-lawyers-at-the-national-security-agency/
END:VEVENT
END:VCALENDAR