BEGIN:VCALENDAR
VERSION:2.0
PRODID:-//hacksw/handcal//NONSGML v1.0//EN
BEGIN:VEVENT
UID:4218a1de8ff3e5e29209cbfb39a14adb
DTSTAMP:20230309T001500
DTSTART;TZID=America/Chicago:20230309T001500
DTEND;TZID=America/Chicago:20230309T133000
SUMMARY:The Evolution of Nuclear Security and Implications of Russia&#8217;s Invasion of Ukraine with 
LOCATION:SRH 3.122, LBJ School
URL;VALUE=URI:https://www.strausscenter.org/events/the-evolution-of-nuclear-security-and-implications-of-russias-invasion-of-ukraine/
END:VEVENT
END:VCALENDAR