BEGIN:VCALENDAR
VERSION:2.0
PRODID:-//hacksw/handcal//NONSGML v1.0//EN
BEGIN:VEVENT
UID:4397c5190690d77e7f4fb397df446f69
DTSTAMP:20230912T140000
DTSTART;TZID=America/Chicago:20230912T140000
DTEND;TZID=America/Chicago:20230912T150000
SUMMARY:Information Session: Applied Cybersecurity Community Clinic  with 
LOCATION:Zoom
URL;VALUE=URI:https://www.strausscenter.org/events/information-session-applied-cybersecurity-community-clinic-2/
END:VEVENT
END:VCALENDAR