BEGIN:VCALENDAR
VERSION:2.0
PRODID:-//hacksw/handcal//NONSGML v1.0//EN
BEGIN:VEVENT
UID:e140888f87c9ec8b87b4bc1700d21793
DTSTAMP:20230926T110000
DTSTART;TZID=America/Chicago:20230926T110000
DTEND;TZID=America/Chicago:20230926T120000
SUMMARY:Rule of Law and Human Rights in Poland Today with 
LOCATION:Zoom
URL;VALUE=URI:https://www.strausscenter.org/events/rule-of-law-and-human-rights-in-poland-today/
END:VEVENT
END:VCALENDAR