BEGIN:VCALENDAR
VERSION:2.0
PRODID:-//hacksw/handcal//NONSGML v1.0//EN
BEGIN:VEVENT
UID:b982111190f41e09400c186ac20fd148
DTSTAMP:20241022T001500
DTSTART;TZID=America/Chicago:20241022T001500
DTEND;TZID=America/Chicago:20241022T133000
SUMMARY:Foreign Policy and National Security in a Second Trump Term with 
LOCATION:SRH 3.122, LBJ School
URL;VALUE=URI:https://www.strausscenter.org/events/foreign-policy-and-national-security-in-a-second-trump-term/
END:VEVENT
END:VCALENDAR